BEGIN:VCALENDAR
VERSION:2.0
PRODID:-//YamaSake - ECPv6.15.20//NONSGML v1.0//EN
CALSCALE:GREGORIAN
METHOD:PUBLISH
X-WR-CALNAME:YamaSake
X-ORIGINAL-URL:https://www.yamasake.ch
X-WR-CALDESC:Veranstaltungen im YamaSake
REFRESH-INTERVAL;VALUE=DURATION:PT1H
X-Robots-Tag:noindex
X-PUBLISHED-TTL:PT1H
BEGIN:VTIMEZONE
TZID:Europe/Helsinki
BEGIN:DAYLIGHT
TZOFFSETFROM:+0200
TZOFFSETTO:+0300
TZNAME:EEST
DTSTART:20210328T010000
END:DAYLIGHT
BEGIN:STANDARD
TZOFFSETFROM:+0300
TZOFFSETTO:+0200
TZNAME:EET
DTSTART:20211031T010000
END:STANDARD
BEGIN:DAYLIGHT
TZOFFSETFROM:+0200
TZOFFSETTO:+0300
TZNAME:EEST
DTSTART:20220327T010000
END:DAYLIGHT
BEGIN:STANDARD
TZOFFSETFROM:+0300
TZOFFSETTO:+0200
TZNAME:EET
DTSTART:20221030T010000
END:STANDARD
BEGIN:DAYLIGHT
TZOFFSETFROM:+0200
TZOFFSETTO:+0300
TZNAME:EEST
DTSTART:20230326T010000
END:DAYLIGHT
BEGIN:STANDARD
TZOFFSETFROM:+0300
TZOFFSETTO:+0200
TZNAME:EET
DTSTART:20231029T010000
END:STANDARD
BEGIN:DAYLIGHT
TZOFFSETFROM:+0200
TZOFFSETTO:+0300
TZNAME:EEST
DTSTART:20240331T010000
END:DAYLIGHT
BEGIN:STANDARD
TZOFFSETFROM:+0300
TZOFFSETTO:+0200
TZNAME:EET
DTSTART:20241027T010000
END:STANDARD
BEGIN:DAYLIGHT
TZOFFSETFROM:+0200
TZOFFSETTO:+0300
TZNAME:EEST
DTSTART:20250330T010000
END:DAYLIGHT
BEGIN:STANDARD
TZOFFSETFROM:+0300
TZOFFSETTO:+0200
TZNAME:EET
DTSTART:20251026T010000
END:STANDARD
BEGIN:DAYLIGHT
TZOFFSETFROM:+0200
TZOFFSETTO:+0300
TZNAME:EEST
DTSTART:20260329T010000
END:DAYLIGHT
BEGIN:STANDARD
TZOFFSETFROM:+0300
TZOFFSETTO:+0200
TZNAME:EET
DTSTART:20261025T010000
END:STANDARD
END:VTIMEZONE
BEGIN:VEVENT
DTSTART;TZID=Europe/Helsinki:20250426T110000
DTEND;TZID=Europe/Helsinki:20250426T130000
DTSTAMP:20260424T202603
CREATED:20250404T051030Z
LAST-MODIFIED:20250404T051030Z
UID:26682-1745665200-1745672400@www.yamasake.ch
SUMMARY:Sake Degustation April 2025
DESCRIPTION:[vc_row][vc_column width=»2/3″][vc_column_text] \nUnser öffentliche Führung und Tasting ist für alle\, die gerne unseren Sake probieren und einen kleinen Einblick in die YamaSake Brauerei erhalten möchten. Starten tut diese um 11:00 und endet mit der Degustation unserer Sakes. Das Sake Degustationsglas könnt ihr dabei mit nach Hause nehmen. \nGerne könnt ihr uns dann auch alle Fragen zum Thema Sake und der Produktion unserer Produkte stellen.\nDa die Teilnehmerzahl beschränkt ist\, am besten gleich jetzt unten anmelden.[/vc_column_text][/vc_column][vc_column width=»1/3″][vc_single_image image=»13134″ img_size=»medium» alignment=»right» onclick=»link_image»][/vc_column][/vc_row]
URL:https://www.yamasake.ch/event/sake-degustation-april-2025/
LOCATION:YamaSake\, Vorderuttenberg 9\, Knonau\, 8934\, Switzerland
CATEGORIES:Events
ATTACH;FMTTYPE=image/jpeg:https://www.yamasake.ch/wp-content/uploads/2018/02/Junmai_Ginjo_Daiginjo_Sake-scaled.jpg
ORGANIZER;CN="YamaSake":MAILTO:sake@yamasake.ch
END:VEVENT
BEGIN:VEVENT
DTSTART;TZID=Europe/Helsinki:20241214T110000
DTEND;TZID=Europe/Helsinki:20241214T130000
DTSTAMP:20260424T202603
CREATED:20241106T173311Z
LAST-MODIFIED:20241202T124516Z
UID:26215-1734174000-1734181200@www.yamasake.ch
SUMMARY:Sake Degustation Dezember 2024
DESCRIPTION:[vc_row][vc_column width=»2/3″][vc_column_text] \nUnser öffentliche Führung und Tasting ist für alle\, die gerne unseren Sake probieren und einen kleinen Einblick in die YamaSake Brauerei erhalten möchten. Starten tut diese um 11:00 und endet mit der Degustation unserer Sakes. Das Sake Glas könnt ihr dabei mit nach Hause nehmen. \nGerne könnt ihr uns dann auch alle Fragen zum Thema Sake und der Produktion unserer Produkte stellen.\nDa die Teilnehmerzahl beschränkt ist\, am besten gleich jetzt unten anmelden.[/vc_column_text][/vc_column][vc_column width=»1/3″][vc_single_image image=»13134″ img_size=»medium» alignment=»right» onclick=»link_image»][/vc_column][/vc_row]
URL:https://www.yamasake.ch/event/sake-degustation-dezember-2024/
LOCATION:YamaSake\, Vorderuttenberg 9\, Knonau\, 8934\, Switzerland
CATEGORIES:Events
ATTACH;FMTTYPE=image/jpeg:https://www.yamasake.ch/wp-content/uploads/2018/02/Junmai_Ginjo_Daiginjo_Sake-scaled.jpg
ORGANIZER;CN="YamaSake":MAILTO:sake@yamasake.ch
END:VEVENT
BEGIN:VEVENT
DTSTART;TZID=Europe/Helsinki:20241012T110000
DTEND;TZID=Europe/Helsinki:20241012T130000
DTSTAMP:20260424T202603
CREATED:20240828T112049Z
LAST-MODIFIED:20240828T113008Z
UID:25417-1728730800-1728738000@www.yamasake.ch
SUMMARY:Sake Degustation Oktober 2024
DESCRIPTION:[vc_row][vc_column width=»2/3″][vc_column_text] \nUnser öffentliche Führung und Tasting ist für alle\, die gerne unseren Sake probieren und einen kleinen Einblick in die YamaSake Brauerei erhalten möchten. Starten tut diese um 11:00 und endet mit der Degustation unserer Sakes. Das Sake Glas könnt ihr dabei mit nach Hause nehmen. \nGerne könnt ihr uns dann auch alle Fragen zum Thema Sake und der Produktion unserer Produkte stellen.\nDa die Teilnehmerzahl beschränkt ist\, am besten gleich jetzt unten anmelden.[/vc_column_text][/vc_column][vc_column width=»1/3″][vc_single_image image=»13134″ img_size=»medium» alignment=»right» onclick=»link_image»][/vc_column][/vc_row]
URL:https://www.yamasake.ch/event/sake-degustation-oktober-2024/
LOCATION:YamaSake\, Vorderuttenberg 9\, Knonau\, 8934\, Switzerland
CATEGORIES:Events
ATTACH;FMTTYPE=image/jpeg:https://www.yamasake.ch/wp-content/uploads/2018/02/Junmai_Ginjo_Daiginjo_Sake-scaled.jpg
ORGANIZER;CN="YamaSake":MAILTO:sake@yamasake.ch
END:VEVENT
BEGIN:VEVENT
DTSTART;TZID=Europe/Helsinki:20240921T110000
DTEND;TZID=Europe/Helsinki:20240921T130000
DTSTAMP:20260424T202603
CREATED:20240828T111816Z
LAST-MODIFIED:20240828T113014Z
UID:25414-1726916400-1726923600@www.yamasake.ch
SUMMARY:Sake Degustation September 2024
DESCRIPTION:[vc_row][vc_column width=»2/3″][vc_column_text] \nUnser öffentliche Führung und Tasting ist für alle\, die gerne unseren Sake probieren und einen kleinen Einblick in die YamaSake Brauerei erhalten möchten. Starten tut diese um 11:00 und endet mit der Degustation unserer Sakes. Das Sake Glas könnt ihr dabei mit nach Hause nehmen. \nGerne könnt ihr uns dann auch alle Fragen zum Thema Sake und der Produktion unserer Produkte stellen.\nDa die Teilnehmerzahl beschränkt ist\, am besten gleich jetzt unten anmelden.[/vc_column_text][/vc_column][vc_column width=»1/3″][vc_single_image image=»13134″ img_size=»medium» alignment=»right» onclick=»link_image»][/vc_column][/vc_row]
URL:https://www.yamasake.ch/event/sake-degustation-september-2024/
LOCATION:YamaSake\, Vorderuttenberg 9\, Knonau\, 8934\, Switzerland
CATEGORIES:Events
ATTACH;FMTTYPE=image/jpeg:https://www.yamasake.ch/wp-content/uploads/2018/02/Junmai_Ginjo_Daiginjo_Sake-scaled.jpg
ORGANIZER;CN="YamaSake":MAILTO:sake@yamasake.ch
END:VEVENT
BEGIN:VEVENT
DTSTART;TZID=Europe/Helsinki:20240224T110000
DTEND;TZID=Europe/Helsinki:20240224T130000
DTSTAMP:20260424T202603
CREATED:20230412T184719Z
LAST-MODIFIED:20240203T104742Z
UID:20448-1708772400-1708779600@www.yamasake.ch
SUMMARY:Sake Degustation Februar 2024
DESCRIPTION:[vc_row][vc_column width=»2/3″][vc_column_text] \nUnser öffentliche Führung und Tasting ist für alle\, die gerne unseren Sake probieren und einen kleinen Einblick in die YamaSake Brauerei erhalten möchten. Starten tut diese um 11:00 und endet mit der Degustation unserer Sakes. \nGerne könnt ihr uns dann auch alle Fragen zum Thema Sake und der Produktion unserer Produkte stellen.\nDa die Teilnehmerzahl beschränkt ist\, am besten gleich jetzt unten anmelden.[/vc_column_text][/vc_column][vc_column width=»1/3″][vc_single_image image=»13134″ img_size=»medium» alignment=»right» onclick=»link_image»][/vc_column][/vc_row]
URL:https://www.yamasake.ch/event/sake-degustation-februar-2024/
LOCATION:YamaSake\, Vorderuttenberg 9\, Knonau\, 8934\, Switzerland
CATEGORIES:Events
ATTACH;FMTTYPE=image/jpeg:https://www.yamasake.ch/wp-content/uploads/2018/02/Junmai_Ginjo_Daiginjo_Sake-scaled.jpg
ORGANIZER;CN="YamaSake":MAILTO:sake@yamasake.ch
END:VEVENT
BEGIN:VEVENT
DTSTART;TZID=Europe/Helsinki:20231004T170000
DTEND;TZID=Europe/Helsinki:20231004T190000
DTSTAMP:20260424T202603
CREATED:20230810T133337Z
LAST-MODIFIED:20230810T133337Z
UID:21988-1696438800-1696446000@www.yamasake.ch
SUMMARY:Sake Week – Brauerei Tour und Tasting\, 4. Oktober
DESCRIPTION:[vc_row][vc_column width=»2/3″][vc_column_text] \nHerzlich willkommen zum Welt Sake Tag bei YamaSake!\n\n\nWir freuen uns sehr\, euch in unserer Brauerei begrüssen zu dürfen\, wenn wir die Tore für die Sake Week öffnen. Es ist eine grossartige Gelegenheit\, einen Einblick in unseren Brauprozess bei YamaSake zu erhalten und mehr über die Herstellung unserer hochwertigen Sake-Produkte zu erfahren. \nWährend dieser Veranstaltung habt ihr die Möglichkeit: \n\nUnsere Brauerei zu erkunden und die verschiedenen Schritte des Sake-Brauprozesses kennenzulernen.\nUnsere hochwertigen Sake-Produkte zu probieren und euch von ihrer Qualität und Vielfalt zu überzeugen.\nMit unserem erfahrenen Team zu sprechen und eure Fragen zum Sake-Brauen zu stellen.\nDie Leidenschaft und Hingabe zu spüren\, mit der wir bei YamaSake unsere Sake-Kreationen herstellen.\n\nWir laden alle Sake-Enthusiasten\, Neugierigen und Geniesser herzlich ein\, an diesem besonderen Tag dabei zu sein. Lasst uns gemeinsam die Welt des Sake entdecken und feiern! \nDie Platzzahl ist begrenzt\, weshalb eine Anmeldung erforderlich ist. \nKampai und bis bald![/vc_column_text][/vc_column][vc_column width=»1/3″][vc_single_image image=»13134″ img_size=»medium» alignment=»right» onclick=»link_image»][/vc_column][/vc_row]
URL:https://www.yamasake.ch/event/sake-week-brauerei-tour-und-tasting-4-oktober/
LOCATION:YamaSake\, Vorderuttenberg 9\, Knonau\, 8934\, Switzerland
CATEGORIES:Events
ATTACH;FMTTYPE=image/jpeg:https://www.yamasake.ch/wp-content/uploads/2018/02/Junmai_Ginjo_Daiginjo_Sake-scaled.jpg
ORGANIZER;CN="YamaSake":MAILTO:sake@yamasake.ch
END:VEVENT
BEGIN:VEVENT
DTSTART;TZID=Europe/Helsinki:20231001T110000
DTEND;TZID=Europe/Helsinki:20231001T130000
DTSTAMP:20260424T202603
CREATED:20230810T131923Z
LAST-MODIFIED:20230810T132614Z
UID:21981-1696158000-1696165200@www.yamasake.ch
SUMMARY:Sake Week - Brauerei Tour und Tasting
DESCRIPTION:[vc_row][vc_column width=»2/3″][vc_column_text] \nHerzlich willkommen zum Welt Sake Tag bei YamaSake!\n\n\nWir freuen uns sehr\, euch in unserer Brauerei begrüssen zu dürfen\, wenn wir die Tore für die Sake Week öffnen. Es ist eine grossartige Gelegenheit\, einen Einblick in unseren Brauprozess bei YamaSake zu erhalten und mehr über die Herstellung unserer hochwertigen Sake-Produkte zu erfahren. \nWährend dieser Veranstaltung habt ihr die Möglichkeit: \n\nUnsere Brauerei zu erkunden und die verschiedenen Schritte des Sake-Brauprozesses kennenzulernen.\nUnsere hochwertigen Sake-Produkte zu probieren und euch von ihrer Qualität und Vielfalt zu überzeugen.\nMit unserem erfahrenen Team zu sprechen und eure Fragen zum Sake-Brauen zu stellen.\nDie Leidenschaft und Hingabe zu spüren\, mit der wir bei YamaSake unsere Sake-Kreationen herstellen.\n\nWir laden alle Sake-Enthusiasten\, Neugierigen und Geniesser herzlich ein\, an diesem besonderen Tag dabei zu sein. Lasst uns gemeinsam die Welt des Sake entdecken und feiern! \nDie Platzzahl ist begrenzt\, weshalb eine Anmeldung erforderlich ist. \nKampai und bis bald![/vc_column_text][/vc_column][vc_column width=»1/3″][vc_single_image image=»13134″ img_size=»medium» alignment=»right» onclick=»link_image»][/vc_column][/vc_row]
URL:https://www.yamasake.ch/event/sake-week-brauerei-tour-und-tasting/
LOCATION:YamaSake\, Vorderuttenberg 9\, Knonau\, 8934\, Switzerland
CATEGORIES:Events
ATTACH;FMTTYPE=image/jpeg:https://www.yamasake.ch/wp-content/uploads/2018/02/Junmai_Ginjo_Daiginjo_Sake-scaled.jpg
ORGANIZER;CN="YamaSake":MAILTO:sake@yamasake.ch
END:VEVENT
BEGIN:VEVENT
DTSTART;TZID=Europe/Helsinki:20230805T110000
DTEND;TZID=Europe/Helsinki:20230805T130000
DTSTAMP:20260424T202603
CREATED:20230412T183521Z
LAST-MODIFIED:20230418T182850Z
UID:20443-1691233200-1691240400@www.yamasake.ch
SUMMARY:Sake Degustation August 2023
DESCRIPTION:[vc_row][vc_column width=»2/3″][vc_column_text] \nUnser öffentliche Führung und Tasting ist für alle\, die gerne unseren Sake probieren und einen kleinen Einblick in die YamaSake Brauerei erhalten möchten. Starten tut diese um 11:00 und endet mit der Degustation unserer Sakes. \nGerne könnt ihr uns dann auch alle Fragen zum Thema Sake und der Produktion unserer Produkte stellen.\nDa die Teilnehmerzahl beschränkt ist\, am besten gleich jetzt unten anmelden.[/vc_column_text][/vc_column][vc_column width=»1/3″][vc_single_image image=»13134″ img_size=»medium» alignment=»right» onclick=»link_image»][/vc_column][/vc_row]
URL:https://www.yamasake.ch/event/sake-degustation-august-2023/
LOCATION:YamaSake\, Vorderuttenberg 9\, Knonau\, 8934\, Switzerland
CATEGORIES:Events
ATTACH;FMTTYPE=image/jpeg:https://www.yamasake.ch/wp-content/uploads/2018/02/Junmai_Ginjo_Daiginjo_Sake-scaled.jpg
ORGANIZER;CN="YamaSake":MAILTO:sake@yamasake.ch
END:VEVENT
BEGIN:VEVENT
DTSTART;TZID=Europe/Helsinki:20230506T110000
DTEND;TZID=Europe/Helsinki:20230506T130000
DTSTAMP:20260424T202603
CREATED:20221120T151516Z
LAST-MODIFIED:20230406T091507Z
UID:18329-1683370800-1683378000@www.yamasake.ch
SUMMARY:Sake Degustation April / Mai 2023
DESCRIPTION:[vc_row][vc_column width=»2/3″][vc_column_text] \nUnser öffentliche Führung und Tasting ist für alle\, die gerne unseren Sake probieren und einen kleinen Einblick in die YamaSake Brauerei erhalten möchten. Starten tut diese um 11:00 und endet mit der Degustation unserer Sakes. \nGerne könnt ihr uns dann auch alle Fragen zum Thema Sake und der Produktion unserer Produkte stellen.\nDa die Teilnehmerzahl beschränkt ist\, am besten gleich jetzt unten anmelden.[/vc_column_text][/vc_column][vc_column width=»1/3″][vc_single_image image=»13134″ img_size=»medium» alignment=»right» onclick=»link_image»][/vc_column][/vc_row]
URL:https://www.yamasake.ch/event/degustation-april-mai-2023/
LOCATION:YamaSake\, Vorderuttenberg 9\, Knonau\, 8934\, Switzerland
CATEGORIES:Events
ATTACH;FMTTYPE=image/jpeg:https://www.yamasake.ch/wp-content/uploads/2018/02/Junmai_Ginjo_Daiginjo_Sake-scaled.jpg
ORGANIZER;CN="YamaSake":MAILTO:sake@yamasake.ch
END:VEVENT
BEGIN:VEVENT
DTSTART;TZID=Europe/Helsinki:20230325T110000
DTEND;TZID=Europe/Helsinki:20230325T130000
DTSTAMP:20260424T202603
CREATED:20221120T150956Z
LAST-MODIFIED:20230313T100142Z
UID:18321-1679742000-1679749200@www.yamasake.ch
SUMMARY:Degustation März 2023
DESCRIPTION:[vc_row][vc_column width=»2/3″][vc_column_text] \nUnser öffentliche Führung und Tasting ist für alle\, die gerne unseren Sake probieren und einen kleinen Einblick in die YamaSake Brauerei erhalten möchten. Starten tut diese um 11:00. \nGerne könnt ihr uns dann auch alle Fragen zum Thema Sake und der Produktion unserer Produkte stellen.\nDa die Teilnehmerzahl beschränkt ist\, am besten gleich jetzt unten anmelden.[/vc_column_text][/vc_column][vc_column width=»1/3″][vc_single_image image=»13134″ img_size=»medium» alignment=»right» onclick=»link_image»][/vc_column][/vc_row]
URL:https://www.yamasake.ch/event/degustation-maerz-2023/
LOCATION:YamaSake\, Vorderuttenberg 9\, Knonau\, 8934\, Switzerland
CATEGORIES:Events
ATTACH;FMTTYPE=image/jpeg:https://www.yamasake.ch/wp-content/uploads/2018/02/Junmai_Ginjo_Daiginjo_Sake-scaled.jpg
ORGANIZER;CN="YamaSake":MAILTO:sake@yamasake.ch
END:VEVENT
BEGIN:VEVENT
DTSTART;TZID=Europe/Helsinki:20230225T110000
DTEND;TZID=Europe/Helsinki:20230225T130000
DTSTAMP:20260424T202603
CREATED:20221120T150415Z
LAST-MODIFIED:20230224T045042Z
UID:18318-1677322800-1677330000@www.yamasake.ch
SUMMARY:Degustation Februar 2023
DESCRIPTION:[vc_row][vc_column width=»2/3″][vc_column_text] \nUnser öffentliche Führung und Tasting ist für alle\, die gerne unseren Sake probieren und einen kleinen Einblick in die YamaSake Brauerei erhalten möchten. Starten tut diese um 11:00. \nGerne könnt ihr uns dann auch alle Fragen zum Thema Sake und der Produktion unserer Produkte stellen.\nDa die Teilnehmerzahl beschränkt ist\, am besten gleich jetzt unten anmelden.[/vc_column_text][/vc_column][vc_column width=»1/3″][vc_single_image image=»13134″ img_size=»medium» alignment=»right» onclick=»link_image»][/vc_column][/vc_row]
URL:https://www.yamasake.ch/event/degustation-februar-2023/
LOCATION:YamaSake\, Vorderuttenberg 9\, Knonau\, 8934\, Switzerland
CATEGORIES:Events
ATTACH;FMTTYPE=image/jpeg:https://www.yamasake.ch/wp-content/uploads/2018/02/Junmai_Ginjo_Daiginjo_Sake-scaled.jpg
ORGANIZER;CN="YamaSake":MAILTO:sake@yamasake.ch
END:VEVENT
BEGIN:VEVENT
DTSTART;TZID=Europe/Helsinki:20230128T110000
DTEND;TZID=Europe/Helsinki:20230128T130000
DTSTAMP:20260424T202603
CREATED:20221120T110717Z
LAST-MODIFIED:20221120T151244Z
UID:18312-1674903600-1674910800@www.yamasake.ch
SUMMARY:Degustation Januar 2023
DESCRIPTION:[vc_row][vc_column width=»2/3″][vc_column_text] \nUnser öffentliches Tasting ist für alle\, die gerne unseren Sake probieren und einen kleinen Einblick in die YamaSake Brauerei erhalten möchten. \nGerne könnt ihr uns dann auch alle Fragen zum Thema Sake und der Produktion unserer Produkte stellen.\nDa die Teilnehmerzahl beschränkt ist\, am besten gleich jetzt unten anmelden.[/vc_column_text][/vc_column][vc_column width=»1/3″][vc_single_image image=»13134″ img_size=»medium» alignment=»right» onclick=»link_image»][/vc_column][/vc_row]
URL:https://www.yamasake.ch/event/degustation-januar/
LOCATION:YamaSake\, Vorderuttenberg 9\, Knonau\, 8934\, Switzerland
CATEGORIES:Events
ATTACH;FMTTYPE=image/jpeg:https://www.yamasake.ch/wp-content/uploads/2018/02/Junmai_Ginjo_Daiginjo_Sake-scaled.jpg
ORGANIZER;CN="YamaSake":MAILTO:sake@yamasake.ch
END:VEVENT
BEGIN:VEVENT
DTSTART;TZID=Europe/Helsinki:20221217T110000
DTEND;TZID=Europe/Helsinki:20221217T130000
DTSTAMP:20260424T202603
CREATED:20221116T083108Z
LAST-MODIFIED:20221120T111035Z
UID:18260-1671274800-1671282000@www.yamasake.ch
SUMMARY:Degustation Dezember
DESCRIPTION:[vc_row][vc_column width=»2/3″][vc_column_text] \nUnser öffentliches Tasting ist für alle\, die gerne unseren Sake probieren und einen kleinen Einblick in die YamaSake Brauerei erhalten möchten. \nGerne könnt ihr uns dann auch alle Fragen zum Thema Sake und der Produktion unserer Produkte stellen.\nDa die Teilnehmerzahl beschränkt ist\, am besten gleich jetzt unten anmelden.[/vc_column_text][/vc_column][vc_column width=»1/3″][vc_single_image image=»13134″ img_size=»medium» alignment=»right» onclick=»link_image»][/vc_column][/vc_row]
URL:https://www.yamasake.ch/event/degustation-dezember/
LOCATION:YamaSake\, Vorderuttenberg 9\, Knonau\, 8934\, Switzerland
CATEGORIES:Events
ATTACH;FMTTYPE=image/jpeg:https://www.yamasake.ch/wp-content/uploads/2018/02/Junmai_Ginjo_Daiginjo_Sake-scaled.jpg
ORGANIZER;CN="YamaSake":MAILTO:sake@yamasake.ch
END:VEVENT
END:VCALENDAR