BEGIN:VCALENDAR
VERSION:2.0
PRODID:-//YamaSake - ECPv6.15.20//NONSGML v1.0//EN
CALSCALE:GREGORIAN
METHOD:PUBLISH
X-ORIGINAL-URL:https://www.yamasake.ch
X-WR-CALDESC:Veranstaltungen im YamaSake
REFRESH-INTERVAL;VALUE=DURATION:PT1H
X-Robots-Tag:noindex
X-PUBLISHED-TTL:PT1H
BEGIN:VTIMEZONE
TZID:Europe/Helsinki
BEGIN:DAYLIGHT
TZOFFSETFROM:+0200
TZOFFSETTO:+0300
TZNAME:EEST
DTSTART:20210328T010000
END:DAYLIGHT
BEGIN:STANDARD
TZOFFSETFROM:+0300
TZOFFSETTO:+0200
TZNAME:EET
DTSTART:20211031T010000
END:STANDARD
BEGIN:DAYLIGHT
TZOFFSETFROM:+0200
TZOFFSETTO:+0300
TZNAME:EEST
DTSTART:20220327T010000
END:DAYLIGHT
BEGIN:STANDARD
TZOFFSETFROM:+0300
TZOFFSETTO:+0200
TZNAME:EET
DTSTART:20221030T010000
END:STANDARD
BEGIN:DAYLIGHT
TZOFFSETFROM:+0200
TZOFFSETTO:+0300
TZNAME:EEST
DTSTART:20230326T010000
END:DAYLIGHT
BEGIN:STANDARD
TZOFFSETFROM:+0300
TZOFFSETTO:+0200
TZNAME:EET
DTSTART:20231029T010000
END:STANDARD
BEGIN:DAYLIGHT
TZOFFSETFROM:+0200
TZOFFSETTO:+0300
TZNAME:EEST
DTSTART:20240331T010000
END:DAYLIGHT
BEGIN:STANDARD
TZOFFSETFROM:+0300
TZOFFSETTO:+0200
TZNAME:EET
DTSTART:20241027T010000
END:STANDARD
BEGIN:DAYLIGHT
TZOFFSETFROM:+0200
TZOFFSETTO:+0300
TZNAME:EEST
DTSTART:20250330T010000
END:DAYLIGHT
BEGIN:STANDARD
TZOFFSETFROM:+0300
TZOFFSETTO:+0200
TZNAME:EET
DTSTART:20251026T010000
END:STANDARD
END:VTIMEZONE
BEGIN:VEVENT
DTSTART;TZID=Europe/Helsinki:20240908T110000
DTEND;TZID=Europe/Helsinki:20240908T180000
DTSTAMP:20260424T204607
CREATED:20240203T102232Z
LAST-MODIFIED:20240203T102232Z
UID:23660-1725793200-1725818400@www.yamasake.ch
SUMMARY:Wiler Japanfest 2024
DESCRIPTION:Wir sind wieder am Willer Japanfest in Wil SG. Nebst kulinarischen Spezialitäten wie Sushi\, Yakitori\, Okonomiyaki\, Wagashi\, Karaage\, Nikuman usw. hat es an dem Fest auch eine Trommelgruppe\, Volkstanzgruppe\, Kalligrafie- und Tuschemalerei-Demonstration\, Origami und vieles mehr. Kommt mit der ganzen Familie vorbei und geniesst ein Kulturfest und lernt Japan kennen.
URL:https://www.yamasake.ch/event/wiler-japanfest-2024/
LOCATION:Lokremise Wil\, Silostrasse\, Wil SG\, SG\, 9500\, Switzerland
CATEGORIES:Events
ATTACH;FMTTYPE=image/jpeg:https://www.yamasake.ch/wp-content/uploads/2022/07/Wiler_Japanfest.jpg
ORGANIZER;CN="Yamato":MAILTO:vorstand@yamato-kultur.ch
END:VEVENT
BEGIN:VEVENT
DTSTART;TZID=Europe/Helsinki:20240427T110000
DTEND;TZID=Europe/Helsinki:20240428T200000
DTSTAMP:20260424T204607
CREATED:20240203T101731Z
LAST-MODIFIED:20240320T212852Z
UID:23657-1714215600-1714334400@www.yamasake.ch
SUMMARY:Japan Food Fest 2024
DESCRIPTION:Wir sind am Japan Food Fest in Zug. Geniesse an dem Festival viele kulinarische Highlights. Dieses Jahr sind wir zusammen mit shizuku an einem Stand und präsentieren zusammen Sake aus der Schweiz und Japan. \nAm Samstag werd ich zudem eine Einführung in die Produktion von Sake geben. \nAm ganzen Festival kannst du viele Köstlichkeiten von Sushi\, Gyoza\, Karage\, Dango\, Ramen und natürlich auch unseren Sake probieren. Komm vorbei am Sa. / So. vom 27.4. – 28.4. jeweils 11:00 – 20:00.
URL:https://www.yamasake.ch/event/japan-food-fest-2024/
LOCATION:Burgbach-Saal\, Dorfstrasse 12\, Zug\, ZG\, 6300\, Switzerland
CATEGORIES:Events
ATTACH;FMTTYPE=image/jpeg:https://www.yamasake.ch/wp-content/uploads/2018/02/Japan_Food_Fest_2024_YamaSake.jpg
END:VEVENT
BEGIN:VEVENT
DTSTART;TZID=Europe/Helsinki:20220716T110000
DTEND;TZID=Europe/Helsinki:20220717T200000
DTSTAMP:20260424T204607
CREATED:20220704T205831Z
LAST-MODIFIED:20220704T205947Z
UID:14809-1657969200-1658088000@www.yamasake.ch
SUMMARY:Japan Food Fest
DESCRIPTION:Wir sind am Japan Food Fest in Zug. Geniesse an dem Festival viele kulinarische Highlights. Von Sushi\, Gyoza\, Karage\, Dango\, Ramen und natürlich auch unseren Sake ist alles dabei. Komm vorbei am Sa. / So. vom 16.7. – 17.7. jeweils 11:00 – 20:00.
URL:https://www.yamasake.ch/event/japan-food-fest/
LOCATION:Burgbach-Saal\, Dorfstrasse 12\, Zug\, ZG\, 6300\, Switzerland
CATEGORIES:Events
ATTACH;FMTTYPE=image/png:https://www.yamasake.ch/wp-content/uploads/2018/02/Japan_Food_Fest_Zug_2022.png
END:VEVENT
END:VCALENDAR