BEGIN:VCALENDAR
VERSION:2.0
PRODID:-//YamaSake - ECPv6.15.20//NONSGML v1.0//EN
CALSCALE:GREGORIAN
METHOD:PUBLISH
X-WR-CALNAME:YamaSake
X-ORIGINAL-URL:https://www.yamasake.ch
X-WR-CALDESC:Veranstaltungen im YamaSake
REFRESH-INTERVAL;VALUE=DURATION:PT1H
X-Robots-Tag:noindex
X-PUBLISHED-TTL:PT1H
BEGIN:VTIMEZONE
TZID:Europe/Helsinki
BEGIN:DAYLIGHT
TZOFFSETFROM:+0200
TZOFFSETTO:+0300
TZNAME:EEST
DTSTART:20210328T010000
END:DAYLIGHT
BEGIN:STANDARD
TZOFFSETFROM:+0300
TZOFFSETTO:+0200
TZNAME:EET
DTSTART:20211031T010000
END:STANDARD
BEGIN:DAYLIGHT
TZOFFSETFROM:+0200
TZOFFSETTO:+0300
TZNAME:EEST
DTSTART:20220327T010000
END:DAYLIGHT
BEGIN:STANDARD
TZOFFSETFROM:+0300
TZOFFSETTO:+0200
TZNAME:EET
DTSTART:20221030T010000
END:STANDARD
BEGIN:DAYLIGHT
TZOFFSETFROM:+0200
TZOFFSETTO:+0300
TZNAME:EEST
DTSTART:20230326T010000
END:DAYLIGHT
BEGIN:STANDARD
TZOFFSETFROM:+0300
TZOFFSETTO:+0200
TZNAME:EET
DTSTART:20231029T010000
END:STANDARD
END:VTIMEZONE
BEGIN:VEVENT
DTSTART;TZID=Europe/Helsinki:20220904T100000
DTEND;TZID=Europe/Helsinki:20220904T180000
DTSTAMP:20260424T221129
CREATED:20220712T034301Z
LAST-MODIFIED:20220712T050749Z
UID:15258-1662285600-1662314400@www.yamasake.ch
SUMMARY:Wiler Japanfest
DESCRIPTION:Wir haben ein Stand am Willer Japanfest in Wil SG. Nebst kulinarischen Spezialitäten wie Sushi\, Yakitori\, Okonomiyaki\, Wagashi\, Karaage\, Nikuman usw. hat es an dem Fest auch eine Trommelgruppe\, Volkstanzgruppe\, Kalligrafie- und Tuschemalerei-Demonstration\, Origami und vieles mehr. Kommt mit der ganzen Familie vorbei und geniesst ein Kulturfest und lernt Japan kennen.
URL:https://www.yamasake.ch/event/wiler-japanfest/
LOCATION:Lokremise Wil\, Silostrasse\, Wil SG\, SG\, 9500\, Switzerland
CATEGORIES:Events
ATTACH;FMTTYPE=image/jpeg:https://www.yamasake.ch/wp-content/uploads/2022/07/Wiler_Japanfest.jpg
ORGANIZER;CN="Yamato":MAILTO:vorstand@yamato-kultur.ch
END:VEVENT
END:VCALENDAR