BEGIN:VCALENDAR
VERSION:2.0
PRODID:-//YamaSake - ECPv6.15.20//NONSGML v1.0//EN
CALSCALE:GREGORIAN
METHOD:PUBLISH
X-WR-CALNAME:YamaSake
X-ORIGINAL-URL:https://www.yamasake.ch
X-WR-CALDESC:Veranstaltungen im YamaSake
REFRESH-INTERVAL;VALUE=DURATION:PT1H
X-Robots-Tag:noindex
X-PUBLISHED-TTL:PT1H
BEGIN:VTIMEZONE
TZID:Europe/Helsinki
BEGIN:DAYLIGHT
TZOFFSETFROM:+0200
TZOFFSETTO:+0300
TZNAME:EEST
DTSTART:20210328T010000
END:DAYLIGHT
BEGIN:STANDARD
TZOFFSETFROM:+0300
TZOFFSETTO:+0200
TZNAME:EET
DTSTART:20211031T010000
END:STANDARD
BEGIN:DAYLIGHT
TZOFFSETFROM:+0200
TZOFFSETTO:+0300
TZNAME:EEST
DTSTART:20220327T010000
END:DAYLIGHT
BEGIN:STANDARD
TZOFFSETFROM:+0300
TZOFFSETTO:+0200
TZNAME:EET
DTSTART:20221030T010000
END:STANDARD
BEGIN:DAYLIGHT
TZOFFSETFROM:+0200
TZOFFSETTO:+0300
TZNAME:EEST
DTSTART:20230326T010000
END:DAYLIGHT
BEGIN:STANDARD
TZOFFSETFROM:+0300
TZOFFSETTO:+0200
TZNAME:EET
DTSTART:20231029T010000
END:STANDARD
BEGIN:DAYLIGHT
TZOFFSETFROM:+0200
TZOFFSETTO:+0300
TZNAME:EEST
DTSTART:20240331T010000
END:DAYLIGHT
BEGIN:STANDARD
TZOFFSETFROM:+0300
TZOFFSETTO:+0200
TZNAME:EET
DTSTART:20241027T010000
END:STANDARD
BEGIN:DAYLIGHT
TZOFFSETFROM:+0200
TZOFFSETTO:+0300
TZNAME:EEST
DTSTART:20250330T010000
END:DAYLIGHT
BEGIN:STANDARD
TZOFFSETFROM:+0300
TZOFFSETTO:+0200
TZNAME:EET
DTSTART:20251026T010000
END:STANDARD
BEGIN:DAYLIGHT
TZOFFSETFROM:+0200
TZOFFSETTO:+0300
TZNAME:EEST
DTSTART:20260329T010000
END:DAYLIGHT
BEGIN:STANDARD
TZOFFSETFROM:+0300
TZOFFSETTO:+0200
TZNAME:EET
DTSTART:20261025T010000
END:STANDARD
END:VTIMEZONE
BEGIN:VTIMEZONE
TZID:Europe/Paris
BEGIN:DAYLIGHT
TZOFFSETFROM:+0100
TZOFFSETTO:+0200
TZNAME:CEST
DTSTART:20210328T010000
END:DAYLIGHT
BEGIN:STANDARD
TZOFFSETFROM:+0200
TZOFFSETTO:+0100
TZNAME:CET
DTSTART:20211031T010000
END:STANDARD
BEGIN:DAYLIGHT
TZOFFSETFROM:+0100
TZOFFSETTO:+0200
TZNAME:CEST
DTSTART:20220327T010000
END:DAYLIGHT
BEGIN:STANDARD
TZOFFSETFROM:+0200
TZOFFSETTO:+0100
TZNAME:CET
DTSTART:20221030T010000
END:STANDARD
BEGIN:DAYLIGHT
TZOFFSETFROM:+0100
TZOFFSETTO:+0200
TZNAME:CEST
DTSTART:20230326T010000
END:DAYLIGHT
BEGIN:STANDARD
TZOFFSETFROM:+0200
TZOFFSETTO:+0100
TZNAME:CET
DTSTART:20231029T010000
END:STANDARD
END:VTIMEZONE
BEGIN:VEVENT
DTSTART;TZID=Europe/Helsinki:20250705T110000
DTEND;TZID=Europe/Helsinki:20250705T130000
DTSTAMP:20260424T204800
CREATED:20250618T095700Z
LAST-MODIFIED:20250618T095700Z
UID:26884-1751713200-1751720400@www.yamasake.ch
SUMMARY:Sake erleben bei YamaSake – öffentliche Führung & Degustation
DESCRIPTION:[vc_row][vc_column width=»2/3″][vc_column_text] \nAm Samstag\, 5. Juli um 11:00 Uhr öffnen wir unsere Türen für alle\, die mehr über die Kunst der Sake-Herstellung erfahren möchten. \nBei einer geführten Tour durch unsere Brauerei zeigen wir euch\, wie aus Reis und Wasser – mit viel Geduld\, Handwerk und Leidenschaft – unser einzigartiger Sake’s entsteht. Im Anschluss an die Führung laden wir euch zu einer geführten Degustation ein\, bei der ihr verschiedene Sorten unseres Sakes kennenlernt und verkostet. \nAls Andenken dürft ihr euer Degustationsglas mit nach Hause nehmen. \nNatürlich beantworten wir gerne all eure Fragen rund um Sake\, die Herstellung und unsere Philosophie bei YamaSake. Die Teilnehmerzahl ist begrenzt – jetzt gleich unten anmelden und Platz sichern! \nWir freuen uns auf euren Besuch![/vc_column_text][/vc_column][vc_column width=»1/3″][vc_single_image image=»13134″ img_size=»medium» alignment=»right» onclick=»link_image»][/vc_column][/vc_row]
URL:https://www.yamasake.ch/event/sake-erleben-bei-yamasake-oeffentliche-fuehrung-degustation/
LOCATION:YamaSake\, Vorderuttenberg 9\, Knonau\, 8934\, Switzerland
CATEGORIES:Events
ATTACH;FMTTYPE=image/jpeg:https://www.yamasake.ch/wp-content/uploads/2025/06/Sake_Fuehrung_Tasting.jpg
ORGANIZER;CN="YamaSake":MAILTO:sake@yamasake.ch
END:VEVENT
BEGIN:VEVENT
DTSTART;TZID=Europe/Helsinki:20231201T180000
DTEND;TZID=Europe/Helsinki:20231203T180000
DTSTAMP:20260424T204800
CREATED:20231027T071928Z
LAST-MODIFIED:20231128T054041Z
UID:22765-1701453600-1701626400@www.yamasake.ch
SUMMARY:Kunst trifft auf Sake\, flüssiges Gold
DESCRIPTION:Wir verabschieden uns von einem sonnigen Sommer und einem warmen Herbst. Das Holzofenfeuer zeichnet die neue Keramik von Barbara. Oliver hat den Reis zu frischem Sake gebraut. \nIn dieser einzigartigen Verbindung von Kunst und Genuss laden wir euch herzlich ein\, mit uns zu feiern. Barbara präsentiert ihre handgefertigten Sakecups\, während Oliver euch frischen Sake serviert. Es fehlt nur noch der Sugidama\, um dieses Ereignis vollkommen zu machen. Wir freuen uns darauf\, mit euch einen unvergesslichen Event zu verbringen. \nFreitag 1. Dezember: Vernissage ab 18 Uhr bis Open End\nSamstag 2. Dezember: 12 bis 18 Uhr\nSonntag 3. Dezember: 12 bis 18 Uhr \nKurze Einführung zur Herstellung von Sake am Sa. & So. jeweils um 13 & 16 Uhr \nWo\nAsorys AG\nObere Bahnhofstrasse 3\n8910 Affoltern a.A.
URL:https://www.yamasake.ch/event/kunst-trifft-auf-sake-fluessiges-gold/
LOCATION:Asorys\, Obere Bahnhofstrasse 3\, Affoltern am Albis\, 8910\, Switzerland
CATEGORIES:Events
ATTACH;FMTTYPE=image/jpeg:https://www.yamasake.ch/wp-content/uploads/2018/02/Sake_Tasting_Keramik.jpg
ORGANIZER;CN="YamaSake":MAILTO:sake@yamasake.ch
END:VEVENT
BEGIN:VEVENT
DTSTART;TZID=Europe/Helsinki:20231004T170000
DTEND;TZID=Europe/Helsinki:20231004T190000
DTSTAMP:20260424T204800
CREATED:20230810T133337Z
LAST-MODIFIED:20230810T133337Z
UID:21988-1696438800-1696446000@www.yamasake.ch
SUMMARY:Sake Week – Brauerei Tour und Tasting\, 4. Oktober
DESCRIPTION:[vc_row][vc_column width=»2/3″][vc_column_text] \nHerzlich willkommen zum Welt Sake Tag bei YamaSake!\n\n\nWir freuen uns sehr\, euch in unserer Brauerei begrüssen zu dürfen\, wenn wir die Tore für die Sake Week öffnen. Es ist eine grossartige Gelegenheit\, einen Einblick in unseren Brauprozess bei YamaSake zu erhalten und mehr über die Herstellung unserer hochwertigen Sake-Produkte zu erfahren. \nWährend dieser Veranstaltung habt ihr die Möglichkeit: \n\nUnsere Brauerei zu erkunden und die verschiedenen Schritte des Sake-Brauprozesses kennenzulernen.\nUnsere hochwertigen Sake-Produkte zu probieren und euch von ihrer Qualität und Vielfalt zu überzeugen.\nMit unserem erfahrenen Team zu sprechen und eure Fragen zum Sake-Brauen zu stellen.\nDie Leidenschaft und Hingabe zu spüren\, mit der wir bei YamaSake unsere Sake-Kreationen herstellen.\n\nWir laden alle Sake-Enthusiasten\, Neugierigen und Geniesser herzlich ein\, an diesem besonderen Tag dabei zu sein. Lasst uns gemeinsam die Welt des Sake entdecken und feiern! \nDie Platzzahl ist begrenzt\, weshalb eine Anmeldung erforderlich ist. \nKampai und bis bald![/vc_column_text][/vc_column][vc_column width=»1/3″][vc_single_image image=»13134″ img_size=»medium» alignment=»right» onclick=»link_image»][/vc_column][/vc_row]
URL:https://www.yamasake.ch/event/sake-week-brauerei-tour-und-tasting-4-oktober/
LOCATION:YamaSake\, Vorderuttenberg 9\, Knonau\, 8934\, Switzerland
CATEGORIES:Events
ATTACH;FMTTYPE=image/jpeg:https://www.yamasake.ch/wp-content/uploads/2018/02/Junmai_Ginjo_Daiginjo_Sake-scaled.jpg
ORGANIZER;CN="YamaSake":MAILTO:sake@yamasake.ch
END:VEVENT
BEGIN:VEVENT
DTSTART;TZID=Europe/Helsinki:20220813T110000
DTEND;TZID=Europe/Helsinki:20220813T130000
DTSTAMP:20260424T204800
CREATED:20220627T163914Z
LAST-MODIFIED:20220627T163914Z
UID:14548-1660388400-1660395600@www.yamasake.ch
SUMMARY:Degustation August
DESCRIPTION:[vc_row][vc_column width=»2/3″][vc_column_text] \nUnser öffentliches Tasting ist für alle\, die gerne unseren Sake probieren und einen kleinen Einblick in die YamaSake Brauerei erhalten möchten. \nGerne könnt ihr uns dann auch alle Fragen zum Thema Sake und der Produktion unserer Produkte stellen.\nDa die Teilnehmerzahl beschränkt ist\, am besten gleich jetzt unten anmelden.[/vc_column_text][/vc_column][vc_column width=»1/3″][vc_single_image image=»13134″ img_size=»medium» alignment=»right» onclick=»link_image»][/vc_column][/vc_row]
URL:https://www.yamasake.ch/event/degustation-august/
LOCATION:YamaSake\, Vorderuttenberg 9\, Knonau\, 8934\, Switzerland
CATEGORIES:Events
ATTACH;FMTTYPE=image/jpeg:https://www.yamasake.ch/wp-content/uploads/2018/02/Junmai_Ginjo_Daiginjo_Sake-scaled.jpg
ORGANIZER;CN="YamaSake":MAILTO:sake@yamasake.ch
END:VEVENT
BEGIN:VEVENT
DTSTART;TZID=Europe/Paris:20220625T110000
DTEND;TZID=Europe/Paris:20220625T130000
DTSTAMP:20260424T204800
CREATED:20220427T070003Z
LAST-MODIFIED:20220511T162848Z
UID:13803-1656154800-1656162000@www.yamasake.ch
SUMMARY:Degustation Juni
DESCRIPTION:[vc_row][vc_column width=»2/3″][vc_column_text] \nUnser öffentliches Tasting ist für alle\, die gerne unseren Sake probieren und einen kleinen Einblick in die YamaSake Brauerei erhalten möchten.\nGerne könnt ihr uns dann auch alle Fragen zum Thema Sake und der Produktion unserer Produkte stellen.\nDa die Teilnehmerzahl beschränkt ist\, am besten gleich jetzt unten anmelden.[/vc_column_text][/vc_column][vc_column width=»1/3″][vc_single_image image=»13134″ img_size=»medium» alignment=»right» onclick=»link_image»][/vc_column][/vc_row]
URL:https://www.yamasake.ch/event/degustation-juni/
LOCATION:YamaSake\, Vorderuttenberg 9\, Knonau\, 8934\, Switzerland
CATEGORIES:Events
ATTACH;FMTTYPE=image/jpeg:https://www.yamasake.ch/wp-content/uploads/2018/02/Junmai_Ginjo_Daiginjo_Sake-scaled.jpg
ORGANIZER;CN="YamaSake":MAILTO:sake@yamasake.ch
END:VEVENT
BEGIN:VEVENT
DTSTART;TZID=Europe/Paris:20220514T110000
DTEND;TZID=Europe/Paris:20220514T130000
DTSTAMP:20260424T204800
CREATED:20220411T125524Z
LAST-MODIFIED:20220511T162745Z
UID:13631-1652526000-1652533200@www.yamasake.ch
SUMMARY:Degustation Mai
DESCRIPTION:[vc_row][vc_column width=»2/3″][vc_column_text] \nUnser öffentliches Tasting ist für alle\, die gerne unseren Sake probieren und einen kleinen Einblick in die YamaSake Brauerei erhalten möchten.\nGerne könnt ihr uns dann auch alle Fragen zum Thema Sake und der Produktion unserer Produkte stellen.\nDa die Teilnehmerzahl beschränkt ist\, am besten gleich jetzt unten anmelden.[/vc_column_text][/vc_column][vc_column width=»1/3″][vc_single_image image=»13134″ img_size=»medium» alignment=»right» onclick=»link_image»][/vc_column][/vc_row]
URL:https://www.yamasake.ch/event/sake-tasting/
LOCATION:YamaSake\, Vorderuttenberg 9\, Knonau\, 8934\, Switzerland
CATEGORIES:Events
ATTACH;FMTTYPE=image/jpeg:https://www.yamasake.ch/wp-content/uploads/2018/02/Junmai_Ginjo_Daiginjo_Sake-scaled.jpg
ORGANIZER;CN="YamaSake":MAILTO:sake@yamasake.ch
END:VEVENT
END:VCALENDAR